BEGIN:VCALENDAR
VERSION:2.0
PRODID:-//PIBBLA - ECPv6.15.18//NONSGML v1.0//EN
CALSCALE:GREGORIAN
METHOD:PUBLISH
X-WR-CALNAME:PIBBLA
X-ORIGINAL-URL:https://pibbla.org
X-WR-CALDESC:Eventos para PIBBLA
REFRESH-INTERVAL;VALUE=DURATION:PT1H
X-Robots-Tag:noindex
X-PUBLISHED-TTL:PT1H
BEGIN:VTIMEZONE
TZID:America/Los_Angeles
BEGIN:DAYLIGHT
TZOFFSETFROM:-0800
TZOFFSETTO:-0700
TZNAME:PDT
DTSTART:20250309T100000
END:DAYLIGHT
BEGIN:STANDARD
TZOFFSETFROM:-0700
TZOFFSETTO:-0800
TZNAME:PST
DTSTART:20251102T090000
END:STANDARD
BEGIN:DAYLIGHT
TZOFFSETFROM:-0800
TZOFFSETTO:-0700
TZNAME:PDT
DTSTART:20260308T100000
END:DAYLIGHT
BEGIN:STANDARD
TZOFFSETFROM:-0700
TZOFFSETTO:-0800
TZNAME:PST
DTSTART:20261101T090000
END:STANDARD
BEGIN:DAYLIGHT
TZOFFSETFROM:-0800
TZOFFSETTO:-0700
TZNAME:PDT
DTSTART:20270314T100000
END:DAYLIGHT
BEGIN:STANDARD
TZOFFSETFROM:-0700
TZOFFSETTO:-0800
TZNAME:PST
DTSTART:20271107T090000
END:STANDARD
END:VTIMEZONE
BEGIN:VEVENT
DTSTART;TZID=America/Los_Angeles:20260426T160000
DTEND;TZID=America/Los_Angeles:20260426T173000
DTSTAMP:20260423T063400
CREATED:20240902T003104Z
LAST-MODIFIED:20240902T003104Z
UID:3236-1777219200-1777224600@pibbla.org
SUMMARY:Culto de Adoração
DESCRIPTION:Os cultos de adoração são realizados em português\, com tradução simultânea para inglês. Somos uma igreja alegre\, vibrante e nossos cultos são contemporâneos\, com expressões variadas de Adoração\, Louvor e Mensagens.
URL:https://pibbla.org/calendario/culto-de-adoracao/2026-04-26/
LOCATION:PIBBLA\, 850 Venice Blvd\, Los Angeles\, CA\, 90015\, Estados Unidos
ORGANIZER;CN="PIBBLA":MAILTO:info@pibbla.org
END:VEVENT
BEGIN:VEVENT
DTSTART;TZID=America/Los_Angeles:20260503T160000
DTEND;TZID=America/Los_Angeles:20260503T173000
DTSTAMP:20260423T063400
CREATED:20240902T003104Z
LAST-MODIFIED:20240902T003104Z
UID:3238-1777824000-1777829400@pibbla.org
SUMMARY:Culto de Adoração
DESCRIPTION:Os cultos de adoração são realizados em português\, com tradução simultânea para inglês. Somos uma igreja alegre\, vibrante e nossos cultos são contemporâneos\, com expressões variadas de Adoração\, Louvor e Mensagens.
URL:https://pibbla.org/calendario/culto-de-adoracao/2026-05-03/
LOCATION:PIBBLA\, 850 Venice Blvd\, Los Angeles\, CA\, 90015\, Estados Unidos
ORGANIZER;CN="PIBBLA":MAILTO:info@pibbla.org
END:VEVENT
BEGIN:VEVENT
DTSTART;TZID=America/Los_Angeles:20260510T160000
DTEND;TZID=America/Los_Angeles:20260510T173000
DTSTAMP:20260423T063400
CREATED:20240902T003104Z
LAST-MODIFIED:20240902T003104Z
UID:3242-1778428800-1778434200@pibbla.org
SUMMARY:Culto de Adoração
DESCRIPTION:Os cultos de adoração são realizados em português\, com tradução simultânea para inglês. Somos uma igreja alegre\, vibrante e nossos cultos são contemporâneos\, com expressões variadas de Adoração\, Louvor e Mensagens.
URL:https://pibbla.org/calendario/culto-de-adoracao/2026-05-10/
LOCATION:PIBBLA\, 850 Venice Blvd\, Los Angeles\, CA\, 90015\, Estados Unidos
ORGANIZER;CN="PIBBLA":MAILTO:info@pibbla.org
END:VEVENT
BEGIN:VEVENT
DTSTART;TZID=America/Los_Angeles:20260517T160000
DTEND;TZID=America/Los_Angeles:20260517T173000
DTSTAMP:20260423T063400
CREATED:20240902T003104Z
LAST-MODIFIED:20240902T003104Z
UID:3244-1779033600-1779039000@pibbla.org
SUMMARY:Culto de Adoração
DESCRIPTION:Os cultos de adoração são realizados em português\, com tradução simultânea para inglês. Somos uma igreja alegre\, vibrante e nossos cultos são contemporâneos\, com expressões variadas de Adoração\, Louvor e Mensagens.
URL:https://pibbla.org/calendario/culto-de-adoracao/2026-05-17/
LOCATION:PIBBLA\, 850 Venice Blvd\, Los Angeles\, CA\, 90015\, Estados Unidos
ORGANIZER;CN="PIBBLA":MAILTO:info@pibbla.org
END:VEVENT
BEGIN:VEVENT
DTSTART;TZID=America/Los_Angeles:20260524T160000
DTEND;TZID=America/Los_Angeles:20260524T173000
DTSTAMP:20260423T063400
CREATED:20240902T003104Z
LAST-MODIFIED:20240902T003104Z
UID:3246-1779638400-1779643800@pibbla.org
SUMMARY:Culto de Adoração
DESCRIPTION:Os cultos de adoração são realizados em português\, com tradução simultânea para inglês. Somos uma igreja alegre\, vibrante e nossos cultos são contemporâneos\, com expressões variadas de Adoração\, Louvor e Mensagens.
URL:https://pibbla.org/calendario/culto-de-adoracao/2026-05-24/
LOCATION:PIBBLA\, 850 Venice Blvd\, Los Angeles\, CA\, 90015\, Estados Unidos
ORGANIZER;CN="PIBBLA":MAILTO:info@pibbla.org
END:VEVENT
BEGIN:VEVENT
DTSTART;TZID=America/Los_Angeles:20260531T160000
DTEND;TZID=America/Los_Angeles:20260531T173000
DTSTAMP:20260423T063400
CREATED:20240902T003104Z
LAST-MODIFIED:20240902T003104Z
UID:3248-1780243200-1780248600@pibbla.org
SUMMARY:Culto de Adoração
DESCRIPTION:Os cultos de adoração são realizados em português\, com tradução simultânea para inglês. Somos uma igreja alegre\, vibrante e nossos cultos são contemporâneos\, com expressões variadas de Adoração\, Louvor e Mensagens.
URL:https://pibbla.org/calendario/culto-de-adoracao/2026-05-31/
LOCATION:PIBBLA\, 850 Venice Blvd\, Los Angeles\, CA\, 90015\, Estados Unidos
ORGANIZER;CN="PIBBLA":MAILTO:info@pibbla.org
END:VEVENT
BEGIN:VEVENT
DTSTART;TZID=America/Los_Angeles:20260607T160000
DTEND;TZID=America/Los_Angeles:20260607T173000
DTSTAMP:20260423T063400
CREATED:20240902T003104Z
LAST-MODIFIED:20240902T003104Z
UID:3250-1780848000-1780853400@pibbla.org
SUMMARY:Culto de Adoração
DESCRIPTION:Os cultos de adoração são realizados em português\, com tradução simultânea para inglês. Somos uma igreja alegre\, vibrante e nossos cultos são contemporâneos\, com expressões variadas de Adoração\, Louvor e Mensagens.
URL:https://pibbla.org/calendario/culto-de-adoracao/2026-06-07/
LOCATION:PIBBLA\, 850 Venice Blvd\, Los Angeles\, CA\, 90015\, Estados Unidos
ORGANIZER;CN="PIBBLA":MAILTO:info@pibbla.org
END:VEVENT
BEGIN:VEVENT
DTSTART;TZID=America/Los_Angeles:20260614T160000
DTEND;TZID=America/Los_Angeles:20260614T173000
DTSTAMP:20260423T063400
CREATED:20240902T003104Z
LAST-MODIFIED:20240902T003104Z
UID:3254-1781452800-1781458200@pibbla.org
SUMMARY:Culto de Adoração
DESCRIPTION:Os cultos de adoração são realizados em português\, com tradução simultânea para inglês. Somos uma igreja alegre\, vibrante e nossos cultos são contemporâneos\, com expressões variadas de Adoração\, Louvor e Mensagens.
URL:https://pibbla.org/calendario/culto-de-adoracao/2026-06-14/
LOCATION:PIBBLA\, 850 Venice Blvd\, Los Angeles\, CA\, 90015\, Estados Unidos
ORGANIZER;CN="PIBBLA":MAILTO:info@pibbla.org
END:VEVENT
BEGIN:VEVENT
DTSTART;TZID=America/Los_Angeles:20260621T160000
DTEND;TZID=America/Los_Angeles:20260621T173000
DTSTAMP:20260423T063400
CREATED:20240902T003104Z
LAST-MODIFIED:20240902T003104Z
UID:3256-1782057600-1782063000@pibbla.org
SUMMARY:Culto de Adoração
DESCRIPTION:Os cultos de adoração são realizados em português\, com tradução simultânea para inglês. Somos uma igreja alegre\, vibrante e nossos cultos são contemporâneos\, com expressões variadas de Adoração\, Louvor e Mensagens.
URL:https://pibbla.org/calendario/culto-de-adoracao/2026-06-21/
LOCATION:PIBBLA\, 850 Venice Blvd\, Los Angeles\, CA\, 90015\, Estados Unidos
ORGANIZER;CN="PIBBLA":MAILTO:info@pibbla.org
END:VEVENT
BEGIN:VEVENT
DTSTART;TZID=America/Los_Angeles:20260628T160000
DTEND;TZID=America/Los_Angeles:20260628T173000
DTSTAMP:20260423T063400
CREATED:20240902T003104Z
LAST-MODIFIED:20240902T003104Z
UID:3258-1782662400-1782667800@pibbla.org
SUMMARY:Culto de Adoração
DESCRIPTION:Os cultos de adoração são realizados em português\, com tradução simultânea para inglês. Somos uma igreja alegre\, vibrante e nossos cultos são contemporâneos\, com expressões variadas de Adoração\, Louvor e Mensagens.
URL:https://pibbla.org/calendario/culto-de-adoracao/2026-06-28/
LOCATION:PIBBLA\, 850 Venice Blvd\, Los Angeles\, CA\, 90015\, Estados Unidos
ORGANIZER;CN="PIBBLA":MAILTO:info@pibbla.org
END:VEVENT
BEGIN:VEVENT
DTSTART;TZID=America/Los_Angeles:20260705T160000
DTEND;TZID=America/Los_Angeles:20260705T173000
DTSTAMP:20260423T063400
CREATED:20240902T003104Z
LAST-MODIFIED:20240902T003104Z
UID:3261-1783267200-1783272600@pibbla.org
SUMMARY:Culto de Adoração
DESCRIPTION:Os cultos de adoração são realizados em português\, com tradução simultânea para inglês. Somos uma igreja alegre\, vibrante e nossos cultos são contemporâneos\, com expressões variadas de Adoração\, Louvor e Mensagens.
URL:https://pibbla.org/calendario/culto-de-adoracao/2026-07-05/
LOCATION:PIBBLA\, 850 Venice Blvd\, Los Angeles\, CA\, 90015\, Estados Unidos
ORGANIZER;CN="PIBBLA":MAILTO:info@pibbla.org
END:VEVENT
BEGIN:VEVENT
DTSTART;TZID=America/Los_Angeles:20260712T160000
DTEND;TZID=America/Los_Angeles:20260712T173000
DTSTAMP:20260423T063400
CREATED:20240902T003104Z
LAST-MODIFIED:20240902T003104Z
UID:3263-1783872000-1783877400@pibbla.org
SUMMARY:Culto de Adoração
DESCRIPTION:Os cultos de adoração são realizados em português\, com tradução simultânea para inglês. Somos uma igreja alegre\, vibrante e nossos cultos são contemporâneos\, com expressões variadas de Adoração\, Louvor e Mensagens.
URL:https://pibbla.org/calendario/culto-de-adoracao/2026-07-12/
LOCATION:PIBBLA\, 850 Venice Blvd\, Los Angeles\, CA\, 90015\, Estados Unidos
ORGANIZER;CN="PIBBLA":MAILTO:info@pibbla.org
END:VEVENT
BEGIN:VEVENT
DTSTART;TZID=America/Los_Angeles:20260719T160000
DTEND;TZID=America/Los_Angeles:20260719T173000
DTSTAMP:20260423T063400
CREATED:20240902T003104Z
LAST-MODIFIED:20240902T003104Z
UID:3265-1784476800-1784482200@pibbla.org
SUMMARY:Culto de Adoração
DESCRIPTION:Os cultos de adoração são realizados em português\, com tradução simultânea para inglês. Somos uma igreja alegre\, vibrante e nossos cultos são contemporâneos\, com expressões variadas de Adoração\, Louvor e Mensagens.
URL:https://pibbla.org/calendario/culto-de-adoracao/2026-07-19/
LOCATION:PIBBLA\, 850 Venice Blvd\, Los Angeles\, CA\, 90015\, Estados Unidos
ORGANIZER;CN="PIBBLA":MAILTO:info@pibbla.org
END:VEVENT
END:VCALENDAR